BEGIN:VCALENDAR
VERSION:2.0
PRODID:-//The Bill Cosford Cinema - ECPv6.15.17.1//NONSGML v1.0//EN
CALSCALE:GREGORIAN
METHOD:PUBLISH
X-ORIGINAL-URL:https://cosfordcinema.com
X-WR-CALDESC:Events for The Bill Cosford Cinema
REFRESH-INTERVAL;VALUE=DURATION:PT1H
X-Robots-Tag:noindex
X-PUBLISHED-TTL:PT1H
BEGIN:VTIMEZONE
TZID:UTC
BEGIN:STANDARD
TZOFFSETFROM:+0000
TZOFFSETTO:+0000
TZNAME:UTC
DTSTART:20250101T000000
END:STANDARD
END:VTIMEZONE
BEGIN:VEVENT
DTSTART;TZID=UTC:20260116T200000
DTEND;TZID=UTC:20260116T220000
DTSTAMP:20260424T215753
CREATED:20260113T151854Z
LAST-MODIFIED:20260113T152022Z
UID:10001422-1768593600-1768600800@cosfordcinema.com
SUMMARY:“F1” (2025) FREE SCREENING
DESCRIPTION:The University of Miami’s Cinematic Arts Commission invites you to a free screening of “F1” (2025) on Wednesday\, Jan. 12th at 9 p.m. and Friday\, Jan. 16th at 8 p.m. \nA Formula One driver comes out of retirement to mentor and team up with a younger driver. \nAdmission is FREE and no tickets required! \n\n 
URL:https://cosfordcinema.com/event/f1-2025-free-screening/2026-01-16/
LOCATION:Cosford Cinema\, 5030 Brunson Drive\, Coral Gables\, FL\, 33146\, United States
CATEGORIES:CAC,Event,Free screenings
ATTACH;FMTTYPE=image/webp:https://cosfordcinema.com/wp-content/uploads/2026/01/GettyImages-1528235526-e1718652910434-scaled.webp
ORGANIZER;CN="Cinematic Arts Commission":MAILTO:cosford@miami.edu
END:VEVENT
BEGIN:VEVENT
DTSTART;TZID=UTC:20260121T210000
DTEND;TZID=UTC:20260121T230000
DTSTAMP:20260424T215753
CREATED:20260113T152550Z
LAST-MODIFIED:20260113T152550Z
UID:10001423-1769029200-1769036400@cosfordcinema.com
SUMMARY:“THE BAD GUYS 2" (2025) FREE SCREENING
DESCRIPTION:The University of Miami’s Cinematic Arts Commission invites you to a free screening of “The Bad Guys 2” (2025) on Wednesday\, Jan. 21st at 9 p.m. and Friday\, Jan. 23rd at 8 p.m. \nThe Bad Guys are struggling to find trust and acceptance in their newly minted lives as Good Guys\, when they are pulled out of retirement and forced to do “one last job” by an all-female squad of criminals. \nAdmission is FREE and no tickets required!
URL:https://cosfordcinema.com/event/the-bad-guys-2-2025-free-screening/2026-01-21/
LOCATION:Cosford Cinema\, 5030 Brunson Drive\, Coral Gables\, FL\, 33146\, United States
CATEGORIES:CAC,Event,Free screenings
ATTACH;FMTTYPE=image/webp:https://cosfordcinema.com/wp-content/uploads/2026/01/10E61_TP_00010-scaled.webp
ORGANIZER;CN="Cinematic Arts Commission":MAILTO:cosford@miami.edu
END:VEVENT
BEGIN:VEVENT
DTSTART;TZID=UTC:20260123T200000
DTEND;TZID=UTC:20260123T220000
DTSTAMP:20260424T215753
CREATED:20260113T152550Z
LAST-MODIFIED:20260113T152550Z
UID:10001424-1769198400-1769205600@cosfordcinema.com
SUMMARY:“THE BAD GUYS 2" (2025) FREE SCREENING
DESCRIPTION:The University of Miami’s Cinematic Arts Commission invites you to a free screening of “The Bad Guys 2” (2025) on Wednesday\, Jan. 21st at 9 p.m. and Friday\, Jan. 23rd at 8 p.m. \nThe Bad Guys are struggling to find trust and acceptance in their newly minted lives as Good Guys\, when they are pulled out of retirement and forced to do “one last job” by an all-female squad of criminals. \nAdmission is FREE and no tickets required!
URL:https://cosfordcinema.com/event/the-bad-guys-2-2025-free-screening/2026-01-23/
LOCATION:Cosford Cinema\, 5030 Brunson Drive\, Coral Gables\, FL\, 33146\, United States
CATEGORIES:CAC,Event,Free screenings
ATTACH;FMTTYPE=image/webp:https://cosfordcinema.com/wp-content/uploads/2026/01/10E61_TP_00010-scaled.webp
ORGANIZER;CN="Cinematic Arts Commission":MAILTO:cosford@miami.edu
END:VEVENT
BEGIN:VEVENT
DTSTART;TZID=UTC:20260128T210000
DTEND;TZID=UTC:20260128T233000
DTSTAMP:20260424T215753
CREATED:20260113T153422Z
LAST-MODIFIED:20260113T153423Z
UID:10001425-1769634000-1769643000@cosfordcinema.com
SUMMARY:“ONE BATTLE AFTER ANOTHER" (2025) FREE SCREENING
DESCRIPTION:The University of Miami’s Cinematic Arts Commission invites you to a free screening of “One Battle After Another” (2025) on Wednesday\, Jan. 28th at 9 p.m. and Saturday\, Jan. 31st at 8 p.m. \n\n\n\n\n\n\n\n\n\n\n\nWhen their evil enemy resurfaces after 16 years\, a group of ex-revolutionaries reunite to rescue the daughter of one of their own. \nAdmission is FREE and no tickets required!
URL:https://cosfordcinema.com/event/one-battle-after-another-2025-free-screening/2026-01-28/
LOCATION:Cosford Cinema\, 5030 Brunson Drive\, Coral Gables\, FL\, 33146\, United States
CATEGORIES:CAC,Event,Free screenings
ATTACH;FMTTYPE=image/webp:https://cosfordcinema.com/wp-content/uploads/2026/01/rev-1-OBAA-DUS-250113-0059-8_High_Res_JPEG-H-2025.webp
ORGANIZER;CN="Cinematic Arts Commission":MAILTO:cosford@miami.edu
END:VEVENT
BEGIN:VEVENT
DTSTART;TZID=UTC:20260131T200000
DTEND;TZID=UTC:20260131T223000
DTSTAMP:20260424T215753
CREATED:20260113T153422Z
LAST-MODIFIED:20260113T153423Z
UID:10001426-1769889600-1769898600@cosfordcinema.com
SUMMARY:“ONE BATTLE AFTER ANOTHER" (2025) FREE SCREENING
DESCRIPTION:The University of Miami’s Cinematic Arts Commission invites you to a free screening of “One Battle After Another” (2025) on Wednesday\, Jan. 28th at 9 p.m. and Saturday\, Jan. 31st at 8 p.m. \n\n\n\n\n\n\n\n\n\n\n\nWhen their evil enemy resurfaces after 16 years\, a group of ex-revolutionaries reunite to rescue the daughter of one of their own. \nAdmission is FREE and no tickets required!
URL:https://cosfordcinema.com/event/one-battle-after-another-2025-free-screening/2026-01-31/
LOCATION:Cosford Cinema\, 5030 Brunson Drive\, Coral Gables\, FL\, 33146\, United States
CATEGORIES:CAC,Event,Free screenings
ATTACH;FMTTYPE=image/webp:https://cosfordcinema.com/wp-content/uploads/2026/01/rev-1-OBAA-DUS-250113-0059-8_High_Res_JPEG-H-2025.webp
ORGANIZER;CN="Cinematic Arts Commission":MAILTO:cosford@miami.edu
END:VEVENT
BEGIN:VEVENT
DTSTART;TZID=UTC:20260204T210000
DTEND;TZID=UTC:20260204T230000
DTSTAMP:20260424T215753
CREATED:20260113T154051Z
LAST-MODIFIED:20260204T181756Z
UID:10001427-1770238800-1770246000@cosfordcinema.com
SUMMARY:“NOW YOU SEE ME: NOW YOU DON'T” (2025) FREE SCREENING
DESCRIPTION:The University of Miami’s Cinematic Arts Commission invites you to a free screening of “Now You See Me: Now You Don’t” (2025) on Wednesday\, Feb. 4th at 9 p.m. and Saturday\, Feb. 7th at 8 p.m. \n\n\n\n\n\nThe Four Horsemen reunite and team up with a new generation of young illusionists to expose a diamond heiress’s global money laundering scheme for criminals.\n\n\n\n\n\nAdmission is FREE and no tickets required! \n\n 
URL:https://cosfordcinema.com/event/now-you-see-me-now-you-dont-2025-free-screening/2026-02-04/
LOCATION:Cosford Cinema\, 5030 Brunson Drive\, Coral Gables\, FL\, 33146\, United States
CATEGORIES:CAC,Event,Free screenings
ATTACH;FMTTYPE=image/jpeg:https://cosfordcinema.com/wp-content/uploads/2026/01/now-you-see-me-now-you-dont-257832.jpg
ORGANIZER;CN="Cinematic Arts Commission":MAILTO:cosford@miami.edu
END:VEVENT
BEGIN:VEVENT
DTSTART;TZID=UTC:20260207T210000
DTEND;TZID=UTC:20260207T230000
DTSTAMP:20260424T215753
CREATED:20260113T154051Z
LAST-MODIFIED:20260204T181756Z
UID:10001446-1770498000-1770505200@cosfordcinema.com
SUMMARY:“NOW YOU SEE ME: NOW YOU DON'T” (2025) FREE SCREENING
DESCRIPTION:The University of Miami’s Cinematic Arts Commission invites you to a free screening of “Now You See Me: Now You Don’t” (2025) on Wednesday\, Feb. 4th at 9 p.m. and Saturday\, Feb. 7th at 8 p.m. \n\n\n\n\n\nThe Four Horsemen reunite and team up with a new generation of young illusionists to expose a diamond heiress’s global money laundering scheme for criminals.\n\n\n\n\n\nAdmission is FREE and no tickets required! \n\n 
URL:https://cosfordcinema.com/event/now-you-see-me-now-you-dont-2025-free-screening/2026-02-07/
LOCATION:Cosford Cinema\, 5030 Brunson Drive\, Coral Gables\, FL\, 33146\, United States
CATEGORIES:CAC,Event,Free screenings
ATTACH;FMTTYPE=image/jpeg:https://cosfordcinema.com/wp-content/uploads/2026/01/now-you-see-me-now-you-dont-257832.jpg
ORGANIZER;CN="Cinematic Arts Commission":MAILTO:cosford@miami.edu
END:VEVENT
BEGIN:VEVENT
DTSTART;TZID=UTC:20260211T210000
DTEND;TZID=UTC:20260211T230000
DTSTAMP:20260424T215753
CREATED:20260113T160323Z
LAST-MODIFIED:20260113T160324Z
UID:10001429-1770843600-1770850800@cosfordcinema.com
SUMMARY:“THE RUNNING MAN” (2025) FREE SCREENING
DESCRIPTION:The University of Miami’s Cinematic Arts Commission invites you to a free screening of “The Running Man” (2025) on Wednesday\, Feb. 11th at 9 p.m. and Saturday\, Feb. 14th at 8 p.m. \n\n\n\n\n\nA man joins a game show in which contestants\, allowed to flee anywhere in the world\, are pursued by “hunters” hired to kill them.\n\n\n\n\n\nAdmission is FREE and no tickets required!
URL:https://cosfordcinema.com/event/the-running-man-2025-free-screening/2026-02-11/
LOCATION:Cosford Cinema\, 5030 Brunson Drive\, Coral Gables\, FL\, 33146\, United States
CATEGORIES:CAC,Event,Free screenings
ATTACH;FMTTYPE=image/webp:https://cosfordcinema.com/wp-content/uploads/2026/01/TRM_07404K-scaled.webp
ORGANIZER;CN="Cinematic Arts Commission":MAILTO:cosford@miami.edu
END:VEVENT
BEGIN:VEVENT
DTSTART;TZID=UTC:20260214T200000
DTEND;TZID=UTC:20260214T220000
DTSTAMP:20260424T215753
CREATED:20260113T160323Z
LAST-MODIFIED:20260113T160324Z
UID:10001430-1771099200-1771106400@cosfordcinema.com
SUMMARY:“THE RUNNING MAN” (2025) FREE SCREENING
DESCRIPTION:The University of Miami’s Cinematic Arts Commission invites you to a free screening of “The Running Man” (2025) on Wednesday\, Feb. 11th at 9 p.m. and Saturday\, Feb. 14th at 8 p.m. \n\n\n\n\n\nA man joins a game show in which contestants\, allowed to flee anywhere in the world\, are pursued by “hunters” hired to kill them.\n\n\n\n\n\nAdmission is FREE and no tickets required!
URL:https://cosfordcinema.com/event/the-running-man-2025-free-screening/2026-02-14/
LOCATION:Cosford Cinema\, 5030 Brunson Drive\, Coral Gables\, FL\, 33146\, United States
CATEGORIES:CAC,Event,Free screenings
ATTACH;FMTTYPE=image/webp:https://cosfordcinema.com/wp-content/uploads/2026/01/TRM_07404K-scaled.webp
ORGANIZER;CN="Cinematic Arts Commission":MAILTO:cosford@miami.edu
END:VEVENT
BEGIN:VEVENT
DTSTART;TZID=UTC:20260225T210000
DTEND;TZID=UTC:20260225T230000
DTSTAMP:20260424T215753
CREATED:20260113T161705Z
LAST-MODIFIED:20260113T161706Z
UID:10001431-1772053200-1772060400@cosfordcinema.com
SUMMARY:“ZOOTOPIA 2” (2025) FREE SCREENING
DESCRIPTION:The University of Miami’s Cinematic Arts Commission invites you to a free screening of “Zootopia 2” (2025) on Wednesday\, Feb. 25th at 9 p.m. and Saturday\, Feb. 28th at 8 p.m. \n\n\n\n\n\nBrave rabbit cop Judy Hopps and her friend\, the fox Nick Wilde\, team up again to crack a new case\, the most perilous and intricate of their careers.\n\n\n\n\n\nAdmission is FREE and no tickets required!
URL:https://cosfordcinema.com/event/zootopia-2-2025-free-screening/2026-02-25/
LOCATION:Cosford Cinema\, 5030 Brunson Drive\, Coral Gables\, FL\, 33146\, United States
CATEGORIES:CAC,Event,Free screenings
ATTACH;FMTTYPE=image/webp:https://cosfordcinema.com/wp-content/uploads/2026/01/Zootopia2_-2025-Disney-Enterprises-Inc.webp
ORGANIZER;CN="Cinematic Arts Commission":MAILTO:cosford@miami.edu
END:VEVENT
BEGIN:VEVENT
DTSTART;TZID=UTC:20260228T200000
DTEND;TZID=UTC:20260228T220000
DTSTAMP:20260424T215753
CREATED:20260113T161705Z
LAST-MODIFIED:20260113T161706Z
UID:10001432-1772308800-1772316000@cosfordcinema.com
SUMMARY:“ZOOTOPIA 2” (2025) FREE SCREENING
DESCRIPTION:The University of Miami’s Cinematic Arts Commission invites you to a free screening of “Zootopia 2” (2025) on Wednesday\, Feb. 25th at 9 p.m. and Saturday\, Feb. 28th at 8 p.m. \n\n\n\n\n\nBrave rabbit cop Judy Hopps and her friend\, the fox Nick Wilde\, team up again to crack a new case\, the most perilous and intricate of their careers.\n\n\n\n\n\nAdmission is FREE and no tickets required!
URL:https://cosfordcinema.com/event/zootopia-2-2025-free-screening/2026-02-28/
LOCATION:Cosford Cinema\, 5030 Brunson Drive\, Coral Gables\, FL\, 33146\, United States
CATEGORIES:CAC,Event,Free screenings
ATTACH;FMTTYPE=image/webp:https://cosfordcinema.com/wp-content/uploads/2026/01/Zootopia2_-2025-Disney-Enterprises-Inc.webp
ORGANIZER;CN="Cinematic Arts Commission":MAILTO:cosford@miami.edu
END:VEVENT
BEGIN:VEVENT
DTSTART;TZID=UTC:20260318T210000
DTEND;TZID=UTC:20260318T230000
DTSTAMP:20260424T215753
CREATED:20260113T161746Z
LAST-MODIFIED:20260113T161856Z
UID:10001433-1773867600-1773874800@cosfordcinema.com
SUMMARY:“WICKED: FOR GOOD” (2025) FREE SCREENING
DESCRIPTION:The University of Miami’s Cinematic Arts Commission invites you to a free screening of “Wicked: For Good” (2025) on Wednesday\, Mar. 18th at 9 p.m. and Saturday\, Mar. 21st at 8 p.m. \n\n\n\n\n\nElphaba\, the future Wicked Witch of the West and her relationship with Glinda\, the Good Witch of the North. The second of a two-part feature film adaptation of the Broadway musical.\n\n\n\n\n\nAdmission is FREE and no tickets required!
URL:https://cosfordcinema.com/event/wicked-for-good-2025-free-screening/2026-03-18/
LOCATION:Cosford Cinema\, 5030 Brunson Drive\, Coral Gables\, FL\, 33146\, United States
CATEGORIES:CAC,Event,Free screenings
ATTACH;FMTTYPE=image/webp:https://cosfordcinema.com/wp-content/uploads/2026/01/wicked-for-good-1.webp
ORGANIZER;CN="Cinematic Arts Commission":MAILTO:cosford@miami.edu
END:VEVENT
BEGIN:VEVENT
DTSTART;TZID=UTC:20260321T200000
DTEND;TZID=UTC:20260321T220000
DTSTAMP:20260424T215753
CREATED:20260113T161746Z
LAST-MODIFIED:20260113T161856Z
UID:10001434-1774123200-1774130400@cosfordcinema.com
SUMMARY:“WICKED: FOR GOOD” (2025) FREE SCREENING
DESCRIPTION:The University of Miami’s Cinematic Arts Commission invites you to a free screening of “Wicked: For Good” (2025) on Wednesday\, Mar. 18th at 9 p.m. and Saturday\, Mar. 21st at 8 p.m. \n\n\n\n\n\nElphaba\, the future Wicked Witch of the West and her relationship with Glinda\, the Good Witch of the North. The second of a two-part feature film adaptation of the Broadway musical.\n\n\n\n\n\nAdmission is FREE and no tickets required!
URL:https://cosfordcinema.com/event/wicked-for-good-2025-free-screening/2026-03-21/
LOCATION:Cosford Cinema\, 5030 Brunson Drive\, Coral Gables\, FL\, 33146\, United States
CATEGORIES:CAC,Event,Free screenings
ATTACH;FMTTYPE=image/webp:https://cosfordcinema.com/wp-content/uploads/2026/01/wicked-for-good-1.webp
ORGANIZER;CN="Cinematic Arts Commission":MAILTO:cosford@miami.edu
END:VEVENT
BEGIN:VEVENT
DTSTART;TZID=UTC:20260325T210000
DTEND;TZID=UTC:20260325T230000
DTSTAMP:20260424T215753
CREATED:20260113T161840Z
LAST-MODIFIED:20260113T161841Z
UID:10001435-1774472400-1774479600@cosfordcinema.com
SUMMARY:“NUREMBURG” (2025) FREE SCREENING
DESCRIPTION:The University of Miami’s Cinematic Arts Commission invites you to a free screening of “Nuremburg” (2025) on Wednesday\, Mar. 25th at 9 p.m. and Saturday\, Mar. 28th at 8 p.m. \n\n\n\n\n\nA WWII psychiatrist evaluates Nazi leaders before the Nuremberg trials\, growing increasingly obsessed with understanding evil as he forms a disturbing bond with Hermann Göring.\n\n\n\n\n\nAdmission is FREE and no tickets required!
URL:https://cosfordcinema.com/event/nuremburg-2025-free-screening/2026-03-25/
LOCATION:Cosford Cinema\, 5030 Brunson Drive\, Coral Gables\, FL\, 33146\, United States
CATEGORIES:CAC,Event,Free screenings
ATTACH;FMTTYPE=image/jpeg:https://cosfordcinema.com/wp-content/uploads/2026/01/4805168-3840a-scaled.jpg
ORGANIZER;CN="Cinematic Arts Commission":MAILTO:cosford@miami.edu
END:VEVENT
BEGIN:VEVENT
DTSTART;TZID=UTC:20260328T200000
DTEND;TZID=UTC:20260328T220000
DTSTAMP:20260424T215753
CREATED:20260113T161840Z
LAST-MODIFIED:20260113T161841Z
UID:10001436-1774728000-1774735200@cosfordcinema.com
SUMMARY:“NUREMBURG” (2025) FREE SCREENING
DESCRIPTION:The University of Miami’s Cinematic Arts Commission invites you to a free screening of “Nuremburg” (2025) on Wednesday\, Mar. 25th at 9 p.m. and Saturday\, Mar. 28th at 8 p.m. \n\n\n\n\n\nA WWII psychiatrist evaluates Nazi leaders before the Nuremberg trials\, growing increasingly obsessed with understanding evil as he forms a disturbing bond with Hermann Göring.\n\n\n\n\n\nAdmission is FREE and no tickets required!
URL:https://cosfordcinema.com/event/nuremburg-2025-free-screening/2026-03-28/
LOCATION:Cosford Cinema\, 5030 Brunson Drive\, Coral Gables\, FL\, 33146\, United States
CATEGORIES:CAC,Event,Free screenings
ATTACH;FMTTYPE=image/jpeg:https://cosfordcinema.com/wp-content/uploads/2026/01/4805168-3840a-scaled.jpg
ORGANIZER;CN="Cinematic Arts Commission":MAILTO:cosford@miami.edu
END:VEVENT
BEGIN:VEVENT
DTSTART;TZID=UTC:20260401T210000
DTEND;TZID=UTC:20260401T230000
DTSTAMP:20260424T215753
CREATED:20260113T165358Z
LAST-MODIFIED:20260113T165359Z
UID:10001437-1775077200-1775084400@cosfordcinema.com
SUMMARY:“ANACONDA” (2025) FREE SCREENING
DESCRIPTION:The University of Miami’s Cinematic Arts Commission invites you to a free screening of “Anaconda” (2025) on Wednesday\, Apr. 1st at 9 p.m. and Saturday\, Apr. 4th at 8 p.m. \n\n\n\n\n\nA group of friends are going through a mid-life crisis. They decide to remake a favorite movie from their youth but encounter unexpected events when they enter the jungle.\n\n\n\n\n\n\nAdmission is FREE and no tickets required!
URL:https://cosfordcinema.com/event/anaconda-2025-free-screening/2026-04-01/
LOCATION:Cosford Cinema\, 5030 Brunson Drive\, Coral Gables\, FL\, 33146\, United States
CATEGORIES:CAC,Event,Free screenings
ATTACH;FMTTYPE=image/jpeg:https://cosfordcinema.com/wp-content/uploads/2026/01/pdc_anaconda1.jpg
ORGANIZER;CN="Cinematic Arts Commission":MAILTO:cosford@miami.edu
END:VEVENT
BEGIN:VEVENT
DTSTART;TZID=UTC:20260404T200000
DTEND;TZID=UTC:20260404T220000
DTSTAMP:20260424T215753
CREATED:20260113T165358Z
LAST-MODIFIED:20260113T165359Z
UID:10001438-1775332800-1775340000@cosfordcinema.com
SUMMARY:“ANACONDA” (2025) FREE SCREENING
DESCRIPTION:The University of Miami’s Cinematic Arts Commission invites you to a free screening of “Anaconda” (2025) on Wednesday\, Apr. 1st at 9 p.m. and Saturday\, Apr. 4th at 8 p.m. \n\n\n\n\n\nA group of friends are going through a mid-life crisis. They decide to remake a favorite movie from their youth but encounter unexpected events when they enter the jungle.\n\n\n\n\n\n\nAdmission is FREE and no tickets required!
URL:https://cosfordcinema.com/event/anaconda-2025-free-screening/2026-04-04/
LOCATION:Cosford Cinema\, 5030 Brunson Drive\, Coral Gables\, FL\, 33146\, United States
CATEGORIES:CAC,Event,Free screenings
ATTACH;FMTTYPE=image/jpeg:https://cosfordcinema.com/wp-content/uploads/2026/01/pdc_anaconda1.jpg
ORGANIZER;CN="Cinematic Arts Commission":MAILTO:cosford@miami.edu
END:VEVENT
BEGIN:VEVENT
DTSTART;TZID=UTC:20260408T210000
DTEND;TZID=UTC:20260408T230000
DTSTAMP:20260424T215753
CREATED:20260113T165434Z
LAST-MODIFIED:20260113T165434Z
UID:10001439-1775682000-1775689200@cosfordcinema.com
SUMMARY:“ETERNITY” (2025) FREE SCREENING
DESCRIPTION:The University of Miami’s Cinematic Arts Commission invites you to a free screening of “Eternity” (2025) on Wednesday\, Apr. 8th at 9 p.m. and Saturday\, Apr. 11th at 8 p.m. \n\n\n\n\n\nIn an afterlife where souls have one week to decide where to spend eternity\, Joan is faced with the impossible choice between the man she spent her life with and her first love\, who died young and has waited decades for her to arrive.\n\n\n\n\n\n\nAdmission is FREE and no tickets required!
URL:https://cosfordcinema.com/event/eternity-2025-free-screening/2026-04-08/
LOCATION:Cosford Cinema\, 5030 Brunson Drive\, Coral Gables\, FL\, 33146\, United States
CATEGORIES:CAC,Event,Free screenings
ATTACH;FMTTYPE=image/webp:https://cosfordcinema.com/wp-content/uploads/2026/01/Eternity-E_08326_R11-H-2025.webp
ORGANIZER;CN="Cinematic Arts Commission":MAILTO:cosford@miami.edu
END:VEVENT
BEGIN:VEVENT
DTSTART;TZID=UTC:20260411T200000
DTEND;TZID=UTC:20260411T220000
DTSTAMP:20260424T215753
CREATED:20260113T165434Z
LAST-MODIFIED:20260113T165434Z
UID:10001440-1775937600-1775944800@cosfordcinema.com
SUMMARY:“ETERNITY” (2025) FREE SCREENING
DESCRIPTION:The University of Miami’s Cinematic Arts Commission invites you to a free screening of “Eternity” (2025) on Wednesday\, Apr. 8th at 9 p.m. and Saturday\, Apr. 11th at 8 p.m. \n\n\n\n\n\nIn an afterlife where souls have one week to decide where to spend eternity\, Joan is faced with the impossible choice between the man she spent her life with and her first love\, who died young and has waited decades for her to arrive.\n\n\n\n\n\n\nAdmission is FREE and no tickets required!
URL:https://cosfordcinema.com/event/eternity-2025-free-screening/2026-04-11/
LOCATION:Cosford Cinema\, 5030 Brunson Drive\, Coral Gables\, FL\, 33146\, United States
CATEGORIES:CAC,Event,Free screenings
ATTACH;FMTTYPE=image/webp:https://cosfordcinema.com/wp-content/uploads/2026/01/Eternity-E_08326_R11-H-2025.webp
ORGANIZER;CN="Cinematic Arts Commission":MAILTO:cosford@miami.edu
END:VEVENT
BEGIN:VEVENT
DTSTART;TZID=UTC:20260415T210000
DTEND;TZID=UTC:20260415T230000
DTSTAMP:20260424T215753
CREATED:20260113T165506Z
LAST-MODIFIED:20260113T165506Z
UID:10001441-1776286800-1776294000@cosfordcinema.com
SUMMARY:“28 YEARS LATER: THE BONE TEMPLE” (2025) FREE SCREENING
DESCRIPTION:The University of Miami’s Cinematic Arts Commission invites you to a free screening of “28 Years Later: The Bone Temple” (2025) on Wednesday\, Apr. 15th at 9 p.m. and Saturday\, Apr. 18th at 8 p.m. \n\n\n\n\n\nAs Spike is inducted into Jimmy Crystal’s gang on the mainland\, Dr. Kelson makes a discovery that could alter the world.\n\n\n\n\n\n\nAdmission is FREE and no tickets required!
URL:https://cosfordcinema.com/event/28-years-later-the-bone-temple-2025-free-screening/2026-04-15/
LOCATION:Cosford Cinema\, 5030 Brunson Drive\, Coral Gables\, FL\, 33146\, United States
CATEGORIES:CAC,Event,Free screenings
ATTACH;FMTTYPE=image/jpeg:https://cosfordcinema.com/wp-content/uploads/2026/01/hero-image.fill_.size_1248x702.v1764774629.jpg
ORGANIZER;CN="Cinematic Arts Commission":MAILTO:cosford@miami.edu
END:VEVENT
BEGIN:VEVENT
DTSTART;TZID=UTC:20260418T200000
DTEND;TZID=UTC:20260418T220000
DTSTAMP:20260424T215753
CREATED:20260113T165506Z
LAST-MODIFIED:20260113T165506Z
UID:10001442-1776542400-1776549600@cosfordcinema.com
SUMMARY:“28 YEARS LATER: THE BONE TEMPLE” (2025) FREE SCREENING
DESCRIPTION:The University of Miami’s Cinematic Arts Commission invites you to a free screening of “28 Years Later: The Bone Temple” (2025) on Wednesday\, Apr. 15th at 9 p.m. and Saturday\, Apr. 18th at 8 p.m. \n\n\n\n\n\nAs Spike is inducted into Jimmy Crystal’s gang on the mainland\, Dr. Kelson makes a discovery that could alter the world.\n\n\n\n\n\n\nAdmission is FREE and no tickets required!
URL:https://cosfordcinema.com/event/28-years-later-the-bone-temple-2025-free-screening/2026-04-18/
LOCATION:Cosford Cinema\, 5030 Brunson Drive\, Coral Gables\, FL\, 33146\, United States
CATEGORIES:CAC,Event,Free screenings
ATTACH;FMTTYPE=image/jpeg:https://cosfordcinema.com/wp-content/uploads/2026/01/hero-image.fill_.size_1248x702.v1764774629.jpg
ORGANIZER;CN="Cinematic Arts Commission":MAILTO:cosford@miami.edu
END:VEVENT
BEGIN:VEVENT
DTSTART;TZID=UTC:20260422T210000
DTEND;TZID=UTC:20260422T230000
DTSTAMP:20260424T215753
CREATED:20260113T165533Z
LAST-MODIFIED:20260113T165533Z
UID:10001443-1776891600-1776898800@cosfordcinema.com
SUMMARY:“PREDATOR: BADLANDS” (2025) FREE SCREENING
DESCRIPTION:The University of Miami’s Cinematic Arts Commission invites you to a free screening of “Predator: Badlands” (2025) on Wednesday\, Apr. 22nd at 9 p.m. and Saturday\, Apr. 25th at 8 p.m. \n\n\n\n\n\nA young Predator outcast from his clan finds an unlikely ally on his journey in search of the ultimate adversary.\n\n\n\n\n\n\nAdmission is FREE and no tickets required!
URL:https://cosfordcinema.com/event/predator-badlands-2025-free-screening/2026-04-22/
LOCATION:Cosford Cinema\, 5030 Brunson Drive\, Coral Gables\, FL\, 33146\, United States
CATEGORIES:CAC,Event,Free screenings
ATTACH;FMTTYPE=image/webp:https://cosfordcinema.com/wp-content/uploads/2026/01/PB-TP2-088901-H-2025.webp
ORGANIZER;CN="Cinematic Arts Commission":MAILTO:cosford@miami.edu
END:VEVENT
BEGIN:VEVENT
DTSTART;TZID=UTC:20260425T200000
DTEND;TZID=UTC:20260425T220000
DTSTAMP:20260424T215753
CREATED:20260113T165533Z
LAST-MODIFIED:20260113T165533Z
UID:10001444-1777147200-1777154400@cosfordcinema.com
SUMMARY:“PREDATOR: BADLANDS” (2025) FREE SCREENING
DESCRIPTION:The University of Miami’s Cinematic Arts Commission invites you to a free screening of “Predator: Badlands” (2025) on Wednesday\, Apr. 22nd at 9 p.m. and Saturday\, Apr. 25th at 8 p.m. \n\n\n\n\n\nA young Predator outcast from his clan finds an unlikely ally on his journey in search of the ultimate adversary.\n\n\n\n\n\n\nAdmission is FREE and no tickets required!
URL:https://cosfordcinema.com/event/predator-badlands-2025-free-screening/2026-04-25/
LOCATION:Cosford Cinema\, 5030 Brunson Drive\, Coral Gables\, FL\, 33146\, United States
CATEGORIES:CAC,Event,Free screenings
ATTACH;FMTTYPE=image/webp:https://cosfordcinema.com/wp-content/uploads/2026/01/PB-TP2-088901-H-2025.webp
ORGANIZER;CN="Cinematic Arts Commission":MAILTO:cosford@miami.edu
END:VEVENT
END:VCALENDAR