BEGIN:VCALENDAR
VERSION:2.0
PRODID:-//The Bill Cosford Cinema - ECPv6.15.17.1//NONSGML v1.0//EN
CALSCALE:GREGORIAN
METHOD:PUBLISH
X-WR-CALNAME:The Bill Cosford Cinema
X-ORIGINAL-URL:https://cosfordcinema.com
X-WR-CALDESC:Events for The Bill Cosford Cinema
REFRESH-INTERVAL;VALUE=DURATION:PT1H
X-Robots-Tag:noindex
X-PUBLISHED-TTL:PT1H
BEGIN:VTIMEZONE
TZID:UTC
BEGIN:STANDARD
TZOFFSETFROM:+0000
TZOFFSETTO:+0000
TZNAME:UTC
DTSTART:20250101T000000
END:STANDARD
END:VTIMEZONE
BEGIN:VEVENT
DTSTART;TZID=UTC:20260424T190000
DTEND;TZID=UTC:20260424T210000
DTSTAMP:20260424T101042
CREATED:20260423T124443Z
LAST-MODIFIED:20260423T124444Z
UID:10001476-1777057200-1777064400@cosfordcinema.com
SUMMARY:INDIE NIGHT: "CLOCKED" (2023) FREE SCREENING
DESCRIPTION:REGISTER FOR FREE TICKETS HERE \nJoin us on Friday\, April 24th at 7 p.m. for the next installment of “Indie Night”\, a series showcasing Miami films and filmmakers\, hosted by Rechna Varma\, Associate Professor of Professional Practice in the Cinematic Arts Department at The University of Miami. \nApril’s program includes: \n“Chelo”: A short film directed by Rafal Sokolowski which follows a Colombian immigrant and single mother chasing a shot at something bigger. \n“Clocked”: In Florida-based filmmaker Noah Salzman’s raw\, emotional debut feature\, Adolfo Rivera (Germain Arroyo) is an 18-year-old\, undefeated boxer from a conservative Catholic family in Miami. Adolfo’s love for this tight knit-knit family is apparent\, not just in their time spent together\, but in the bruises and broken bones they are willing to endure time and time again in order to help the family pay their bills. While Adolfo may be remarkably talented in the ring\, the family’s dreams for their devoted son are far different from what Adolfo has in mind. Adolfo is secretly saving their winnings for the biggest fight of their life; self-acceptance in their desire to transition into a woman. The local drag scene becomes a fortuitous\, vibrant sanctuary for Adolfo on this journey of self-acceptance that is forged in blood\, sweat and sequins. \nA Q&A with the filmmakers will follow the screenings. Indie Night gives the audience the chance to meet the filmmakers and cast to learn about the process and execution of local films and connect with other film enthusiasts! \nAdmission is free\, but registration is required at the link above. \n \n  \n 
URL:https://cosfordcinema.com/event/indie-night-clocked-2023-free-screening/
LOCATION:Cosford Cinema\, 5030 Brunson Drive\, Coral Gables\, FL\, 33146\, United States
CATEGORIES:Event,Free screenings,Panel Discussion,Special Screenings
ATTACH;FMTTYPE=image/jpeg:https://cosfordcinema.com/wp-content/uploads/2026/04/Resized_Insta_Poster.jpg
END:VEVENT
END:VCALENDAR